BEGIN:VCALENDAR
VERSION:2.0
PRODID:-//ChamberMaster//Event Calendar 2.0//EN
METHOD:PUBLISH
X-PUBLISHED-TTL:P3D
REFRESH-INTERVAL:P3D
CALSCALE:GREGORIAN
BEGIN:VEVENT
DTSTART:20220317T170000Z
DTEND:20220317T180000Z
X-MICROSOFT-CDO-ALLDAYEVENT:FALSE
SUMMARY:Ribbon Cutting to celebrate the Grand Re-Opening & Re-Construction of Craven ABC Store #1
DESCRIPTION:We cordially invite you to attend a Ribbon Cutting to celebrate the Grand Re-Opening and Re-Construction of the Craven ABC Store #1
X-ALT-DESC;FMTTYPE=text/html:<span style="color:#0000FF\;"><strong><span style="font-size:28px\;"><span style="font-family:comic sans ms\;">We cordially invite you to attend a Ribbon Cutting to celebrate the Grand Re-Opening and Re-Construction of the Craven ABC Store #1&nbsp\;</span></span></strong></span><br />\n<br />\n&nbsp\;
LOCATION:318 South Front Street New Bern\, NC 28562
UID:e.2120.8725
SEQUENCE:3
DTSTAMP:20260424T021327Z
URL:https://business.newbernchamber.com/events/details/ribbon-cutting-to-celebrate-the-grand-re-opening-re-construction-of-craven-abc-store-1-8725
END:VEVENT

END:VCALENDAR
