BEGIN:VCALENDAR
VERSION:2.0
PRODID:-//ChamberMaster//Event Calendar 2.0//EN
METHOD:PUBLISH
X-PUBLISHED-TTL:P3D
REFRESH-INTERVAL:P3D
CALSCALE:GREGORIAN
BEGIN:VEVENT
DTSTART:20220211T190000Z
DTEND:20220211T210000Z
X-MICROSOFT-CDO-ALLDAYEVENT:FALSE
SUMMARY:Ribbon Cutting to celebrate the Grand Re-Opening and New Location of Ghent Sandwich Shop\, a family diner
DESCRIPTION:We cordially invite you to attend a Ribbon Cutting to celebrate the Grand Re Opening of Ghent Sandwich Shop\, a family diner. \n\n\n\nGhent Sandwich Shop was started in February of 1947 by Caesar and Vicki Saretto\, who ran it for nearly 30 years. Pete Saretto\, their son\, took over Ghent with his wife Nikki and ran it until 2005. In December of 2005\, Greg and Sandra Collins purchased the business and continue to own it to this day. Ghent Sandwich Shop has had numerous locations around the Ghent neighborhood throughout the years\, finally opening the doors at its current location in May of 2021. We serve breakfast and lunch 6 days a week\, Monday through Saturday and then serve dinner on Thursday and Friday evenings\, offering a family friendly atmosphere for dining. We proudly serve New Bern and the surrounding communities holding monthly fundraiser nights featuring our famous hot hamburger plates. On those nights\, we raise money for local charities and families in need. As a Navy veteran himself\, Greg\, along with Sandra\, are proud supporters of our servicemembers\, veterans and first responders
X-ALT-DESC;FMTTYPE=text/html:<span style="font-size:16px\;"><span style="font-family:comic sans ms\;">We cordially invite you to attend a Ribbon Cutting to celebrate the Grand Re Opening of Ghent Sandwich Shop\, a family diner.&nbsp\;</span></span><br />\n<br />\nGhent Sandwich Shop was started in February of 1947 by Caesar and Vicki Saretto\, who ran it for nearly 30 years. Pete Saretto\, their son\, took over Ghent with his wife Nikki and ran it until 2005. In December of 2005\, Greg and Sandra Collins purchased the business and continue to own it to this day. Ghent Sandwich Shop has had numerous locations around the Ghent neighborhood throughout the years\, finally opening the doors at its current location in May of 2021. We serve breakfast and lunch 6 days a week\, Monday through Saturday and then serve dinner on Thursday and Friday evenings\, offering a family friendly atmosphere for dining. We proudly serve New Bern and the surrounding communities holding monthly fundraiser nights featuring our famous hot hamburger plates. On those nights\, we raise money for local charities and families in need. As a Navy veteran himself\, Greg\, along with Sandra\, are proud supporters of our servicemembers\, veterans and first responders<br />\n<br />\n<br />\n<br />\n&nbsp\;
LOCATION:1914 Doctor MLK\, Jr. Blvd New Bern\, NC 28560
UID:e.2120.8296
SEQUENCE:3
DTSTAMP:20260424T024133Z
URL:https://business.newbernchamber.com/events/details/ribbon-cutting-to-celebrate-the-grand-re-opening-and-new-location-of-ghent-sandwich-shop-a-family-diner-8296
END:VEVENT

END:VCALENDAR
