BEGIN:VCALENDAR
VERSION:2.0
PRODID:-//ChamberMaster//Event Calendar 2.0//EN
METHOD:PUBLISH
X-PUBLISHED-TTL:P3D
REFRESH-INTERVAL:P3D
CALSCALE:GREGORIAN
BEGIN:VEVENT
DTSTART:20220316T160000Z
DTEND:20220316T180000Z
X-MICROSOFT-CDO-ALLDAYEVENT:FALSE
SUMMARY:Ribbon Cutting to celebrate the Grand Opening of Royal SMP Studio & Rejuvenating Yoni Steam Spa
DESCRIPTION:We cordially invite you to attend a Ribbon Cutting to celebrate the grand opening of Royal SMP Studio and Rejuvenating Yoni Steam Spa\n\n\n\nRejuvenating Yoni Steam Spa...\n\nPelvic steaming is an ancient form of holistic self-care practice to detox the womb and provide relaxation. This female owned company is made up of four Certified Peri Steam Practitioners. All Practitioners specialize in basic steam plans and custom herbal blends for women. Rejuvenating Yoni Steam Spa\, LLP has a product line that consists of all natural Yoni soaps\, oils\, foam wash\, and herbal packs for home use. \n\nThe Practitioners are also Certified to perform the following services\; nonsurgical body contouring with wood therapy\, PureSculpt body ice\, cavitation\, and Radio Frequency Skin Tightening. Men and women alike can enjoy an Ionic detox foot bath\, cosmetic teeth whitening\, tooth gem application\, and detox sauna blanket therapy. \n\nRejuvenating Yoni Steam Spa is located at 1425 S. Glenburnie Rd.\, Suite # 3\, New Bern\, NC. \n\nCome out and meet the team Denise Stevens\, Tina Stevens\, Vivian D. Howard\, BSN\, RN\, and DeShean R. Cooper\, MSN\, RN.\n\n \n\n \n\nRoyal SMP Studio\n\n \n\nScalp Micropigmentation (SMP) is a non-invasive  treatment that uses detailed micro needles to deposit pigment into the scalp.The result creates the appearance of tiny hair follicles that help thicken and restore the look of fuller hair. This treatment should only be performed by a skilled  and trained certified specialist.  SMP is a 100% effective solution for hairless for men and women who may have thinning hair\, hairless\, hairline restoration\,  pattern baldness\, alopecia  and hair transplant scarring. Key facts of SMP \n\n- minimal maintenance \n\n-budget friendly  ( compared to FUT & FUE)\n\n-no medication\n\n-100% effective
X-ALT-DESC;FMTTYPE=text/html:<span style="font-size:16px\;"><span style="font-family:comic sans ms\;"><span style="font-size:22px\;">We cordially invite you to attend a Ribbon Cutting to celebrate the grand opening of Royal SMP Studio and Rejuvenating Yoni Steam Spa</span></span></span><br />\n<br />\n<span style="font-size:20px\;"><span style="font-family:comic sans ms\;">Rejuvenating Yoni Steam Spa...<br />\nPelvic steaming is an ancient form of holistic self-care practice to detox the womb and provide relaxation. This female owned company is made up of four Certified Peri Steam Practitioners. All Practitioners specialize in basic steam plans and custom herbal blends for women. Rejuvenating Yoni Steam Spa\, LLP has a product line that consists of all natural Yoni soaps\, oils\, foam wash\, and herbal packs for home use.&nbsp\;<br />\nThe Practitioners are also Certified to perform the following services\; nonsurgical body contouring with wood therapy\, PureSculpt body ice\, cavitation\, and Radio Frequency Skin Tightening. Men and women alike can enjoy an Ionic detox foot bath\, cosmetic teeth whitening\, tooth gem application\, and detox sauna blanket therapy.&nbsp\;<br />\nRejuvenating Yoni Steam Spa is located at 1425 S. Glenburnie Rd.\, Suite # 3\, New Bern\, NC.&nbsp\;<br />\nCome out and meet the team Denise Stevens\, Tina Stevens\, Vivian D. Howard\, BSN\, RN\, and DeShean R. Cooper\, MSN\, RN.<br />\n&nbsp\;<br />\n&nbsp\;<br />\nRoyal SMP Studio<br />\n&nbsp\;<br />\nScalp Micropigmentation (SMP) is a non-invasive&nbsp\; treatment that uses detailed micro needles to deposit pigment into the scalp.The result creates the appearance of tiny hair follicles that help thicken and restore the look of fuller hair. This treatment should only be performed by a skilled&nbsp\; and trained certified specialist.&nbsp\; SMP is a 100% effective solution for hairless for men and women who may have thinning hair\, hairless\, hairline restoration\,&nbsp\; pattern baldness\, alopecia&nbsp\; and hair transplant scarring. Key facts of SMP&nbsp\;<br />\n- minimal maintenance&nbsp\;<br />\n-budget friendly&nbsp\; ( compared to FUT &amp\; FUE)<br />\n-no medication<br />\n-100% effective&nbsp\;</span></span><br />\n<br />\n<br />\n&nbsp\;
LOCATION:1425 So. Glenburnie Rd. Suite #3 New Bern\, NC 28562
UID:e.2120.8728
SEQUENCE:3
DTSTAMP:20260424T021444Z
URL:https://business.newbernchamber.com/events/details/ribbon-cutting-to-celebrate-the-grand-opening-of-royal-smp-studio-rejuvenating-yoni-steam-spa-8728
END:VEVENT

END:VCALENDAR
