BEGIN:VCALENDAR
VERSION:2.0
PRODID:-//ChamberMaster//Event Calendar 2.0//EN
METHOD:PUBLISH
X-PUBLISHED-TTL:P3D
REFRESH-INTERVAL:P3D
CALSCALE:GREGORIAN
BEGIN:VEVENT
DTSTART:20220413T160000Z
DTEND:20220413T173000Z
X-MICROSOFT-CDO-ALLDAYEVENT:FALSE
SUMMARY:Midday Mingle - Titan Up Athletics
DESCRIPTION:Join us for the April Midday Mingle.  Come out and network with others\, eat lunch and shake up your day.  The New Bern Area Chamber of Commerce invites you to the "Midday Mingle" hosted by Titan UP Athletics
X-ALT-DESC;FMTTYPE=text/html:<span style="font-size:22px\;"><span style="color:#000080\;">Join us for the April Midday Mingle.&nbsp\; Come out and network with others\, eat lunch and shake up your day.&nbsp\; The New Bern Area Chamber of Commerce invites you to the&nbsp\;</span><span style="color:#0000FF\;">&quot\;<strong><em>Midday Mingle&rdquo\; hosted by </em></strong><em>Titan UP Athletics&nbsp\;</em></span></span><br />\n<br />\n&nbsp\;
LOCATION:Titan Up Athletics 3498-B Martin Drive New Bern\, NC 28562
UID:e.2120.8863
SEQUENCE:3
DTSTAMP:20260424T012944Z
URL:https://business.newbernchamber.com/events/details/midday-mingle-titan-up-athletics-8863
END:VEVENT

END:VCALENDAR
