BEGIN:VCALENDAR
VERSION:2.0
PRODID:-//ChamberMaster//Event Calendar 2.0//EN
METHOD:PUBLISH
X-PUBLISHED-TTL:P3D
REFRESH-INTERVAL:P3D
CALSCALE:GREGORIAN
BEGIN:VEVENT
DTSTART:20220309T170000Z
DTEND:20220309T183000Z
X-MICROSOFT-CDO-ALLDAYEVENT:FALSE
SUMMARY:Midday Mingle - Carolina Creations
DESCRIPTION:Join us for the Midday Mingle.  Come out and network with others and shake up your day.  The New Bern Chamber of Commerce invites you to the "Midday Mingle" hosted by Carolina Creations.\n\nFeatured artist will be Janet Dixon. \n\nHer retrospective show is about "Place". \n\nJanet has painted about OUR PLACE called New Bern for the past 20 years. \n\nGreat Door Prizes: Two limited edition ornaments from original watercolors designed specifically for our community. Both created by Janet! \n\nWe would love to see you there!
X-ALT-DESC;FMTTYPE=text/html:<span style="color:#0000FF\;"><span style="font-size:26px\;">Join us for the Midday Mingle.&nbsp\; Come out and network with others and shake up your day.&nbsp\; The New Bern Chamber of Commerce invites you to the &quot\;<strong>M<em>idday Mingle&rdquo\; hosted by&nbsp\;Carolina Creations.</em></strong><br />\nFeatured artist will be Janet Dixon.&nbsp\;<br />\nHer retrospective show is about &ldquo\;Place&rdquo\;.&nbsp\;<br />\nJanet has painted about OUR PLACE called New Bern for the past 20 years.&nbsp\;<br />\nGreat Door Prizes: Two&nbsp\;<span style="font-family: sans-serif\, Arial\, Verdana\, &quot\;Trebuchet MS&quot\;\; background-color: rgb(255\, 255\, 255)\;">limited edition ornaments from original watercolors designed specifically for our community. Both&nbsp\;</span>created by Janet!&nbsp\;</span><br />\n<span style="font-size:26px\;">We would love to see you there!</span></span><br />\n<br />\n&nbsp\;
LOCATION:
UID:e.2120.8727
SEQUENCE:3
DTSTAMP:20260424T020724Z
URL:https://business.newbernchamber.com/events/details/midday-mingle-carolina-creations-8727
END:VEVENT

END:VCALENDAR
