BEGIN:VCALENDAR
VERSION:2.0
PRODID:-//ChamberMaster//Event Calendar 2.0//EN
METHOD:PUBLISH
X-PUBLISHED-TTL:P3D
REFRESH-INTERVAL:P3D
CALSCALE:GREGORIAN
BEGIN:VEVENT
DTSTART:20211216T223000Z
DTEND:20211217T003000Z
X-MICROSOFT-CDO-ALLDAYEVENT:FALSE
SUMMARY:Christmas Business After Hours & Open House
DESCRIPTION:Join us along with our Host Sponsor:  \n\nMichael Raines & Century 21 Zaytoun Raines for our\n\nChristmas Business After Hours &  Open House!\n\n\n\nCatered By:  The Flame Banquet & Catering\n\n \n\nBeverage Sponsors:   Tom Southern with Mass Mutual & Pete Monte with Monte Printing\n\n\n\nBring your cash and participate in our Tradition 50/50 Raffle -  Tickets are only $1.00 each.   At the end of the evening one lucky Chamber Member will walk away with some extra cash for Christmas Shopping.\n\n\n\nGift Certificate & Gift Basket Giveaways also!
X-ALT-DESC;FMTTYPE=text/html:<span style="font-size:18px\;"><span style="color:#FF0000\;"><span style="font-family:comic sans ms\;">Join us along with our Host Sponsor:&nbsp\;&nbsp\;<br />\nMichael Raines &amp\; Century 21 Zaytoun Raines for our<br />\nChristmas Business After Hours &amp\;&nbsp\; Open House!<br />\n<br />\nCatered By:&nbsp\; The Flame Banquet &amp\; Catering<br />\n&nbsp\;<br />\nBeverage Sponsors:&nbsp\; &nbsp\;Tom Southern with Mass Mutual &amp\; Pete Monte with Monte Printing<br />\n<br />\nBring your cash and participate in our Tradition 50/50 Raffle -&nbsp\; Tickets are only $1.00 each.&nbsp\; &nbsp\;At the end of the evening one lucky Chamber Member will walk away with some extra cash for Christmas Shopping.<br />\n<br />\nGift Certificate &amp\; Gift Basket Giveaways also!&nbsp\;&nbsp\;</span></span></span>
LOCATION:New Bern Area Chamber of Commerce 316 South Front Street
UID:e.2120.8295
SEQUENCE:3
DTSTAMP:20260424T045854Z
URL:https://business.newbernchamber.com/events/details/christmas-business-after-hours-open-house-8295
END:VEVENT

END:VCALENDAR
