BEGIN:VCALENDAR
VERSION:2.0
PRODID:-//ChamberMaster//Event Calendar 2.0//EN
METHOD:PUBLISH
X-PUBLISHED-TTL:P3D
REFRESH-INTERVAL:P3D
CALSCALE:GREGORIAN
BEGIN:VEVENT
DTSTART:20230207T170000Z
DTEND:20230207T180000Z
X-MICROSOFT-CDO-ALLDAYEVENT:FALSE
SUMMARY:Chamber Executive & Finance Committee Meeting
DESCRIPTION:
X-ALT-DESC;FMTTYPE=text/html:
LOCATION:Chamber Meeting Room
UID:e.2120.8069
SEQUENCE:3
DTSTAMP:20260419T214106Z
URL:https://business.newbernchamber.com/events/details/chamber-executive-finance-committee-meeting-02-07-2023-8069
END:VEVENT

END:VCALENDAR
