BEGIN:VCALENDAR
VERSION:2.0
PRODID:-//ChamberMaster//Event Calendar 2.0//EN
METHOD:PUBLISH
X-PUBLISHED-TTL:P3D
REFRESH-INTERVAL:P3D
CALSCALE:GREGORIAN
BEGIN:VEVENT
DTSTART:20220426T113000Z
DTEND:20220426T123000Z
X-MICROSOFT-CDO-ALLDAYEVENT:FALSE
SUMMARY:Business Before Hours - MERCI Clinic\, Inc. & The Flame Catering & Banquet Center
DESCRIPTION:The New Bern Area Chamber of Commerce is pleased to announce that the April "Business Before Hours" will be hosted by MERCI Clinic and The Flame Catering & Banquet Center
X-ALT-DESC;FMTTYPE=text/html:<span style="font-size:24px\;">The New Bern Area Chamber of Commerce is pleased to announce that the April <strong><em>&quot\;Business Before Hours&quot\;</em></strong> will be hosted by MERCI Clinic and The Flame Catering &amp\; Banquet Center&nbsp\;</span>
LOCATION:Join us at 1315 Tatum Drive New Bern\, North Carolina
UID:e.2120.8861
SEQUENCE:3
DTSTAMP:20260424T011104Z
URL:https://business.newbernchamber.com/events/details/business-before-hours-merci-clinic-inc-the-flame-catering-banquet-center-8861
END:VEVENT

END:VCALENDAR
