BEGIN:VCALENDAR
VERSION:2.0
PRODID:-//ChamberMaster//Event Calendar 2.0//EN
METHOD:PUBLISH
X-PUBLISHED-TTL:P3D
REFRESH-INTERVAL:P3D
CALSCALE:GREGORIAN
BEGIN:VEVENT
DTSTART:20220322T113000Z
DTEND:20220322T123000Z
X-MICROSOFT-CDO-ALLDAYEVENT:FALSE
SUMMARY:Business Before Hours - Captain Ratty's Seafood
DESCRIPTION:Come out and network with others in a relaxed & fun atmosphere as Captain Ratty's Seafood proudly host this months "Business Before Hours".   \n\nGreat Food\, two lucky members will win a Gift Basket and each member attending will receive a gift as a way of saying "Thank You' for the past year!!
X-ALT-DESC;FMTTYPE=text/html:<span style="font-size:26px\;"><span style="color:#0000CD\;">Come out and network with others in a relaxed &amp\; fun atmosphere as Captain Ratty&#39\;s Seafood proudly host this months <strong><em>&ldquo\;Business Before Hours&rdquo\;.</em></strong>&nbsp\; &nbsp\;<br />\nGreat Food\, two lucky members will win a Gift Basket and each member attending will receive a gift as a way of saying &quot\;Thank You&#39\; for the past year!!</span></span><br />\n<br />\n<br />\n<br />\n&nbsp\;
LOCATION:
UID:e.2120.8726
SEQUENCE:3
DTSTAMP:20260424T020846Z
URL:https://business.newbernchamber.com/events/details/business-before-hours-captain-ratty-s-seafood-8726
END:VEVENT

END:VCALENDAR
