BEGIN:VCALENDAR
VERSION:2.0
PRODID:-//ChamberMaster//Event Calendar 2.0//EN
METHOD:PUBLISH
X-PUBLISHED-TTL:P3D
REFRESH-INTERVAL:P3D
CALSCALE:GREGORIAN
BEGIN:VEVENT
DTSTART:20220317T210000Z
DTEND:20220317T230000Z
X-MICROSOFT-CDO-ALLDAYEVENT:FALSE
SUMMARY:Business After Hours - River Station
DESCRIPTION:Join us for an evening of fun!   Learn about New Bern's newest historic district community & marina as River Station proudly host the March 17 St .Patrick's day Business After Hours! \n\n\n\nTour one of their beautiful homes\n\nVarietal white wines\n\nIrish beer sampling
X-ALT-DESC;FMTTYPE=text/html:<p>Join us for an evening of fun!&nbsp\; &nbsp\;Learn about New Bern&#39\;s newest historic district community &amp\; marina as River Station proudly host the March 17 St .Patrick&#39\;s day Business After Hours!&nbsp\;<br />\n<br />\nTour one of their beautiful homes<br />\nVarietal white wines<br />\nIrish beer sampling&nbsp\;</p>\n
LOCATION:304 Queen St New Bern\, NC 28560
UID:e.2120.8592
SEQUENCE:3
DTSTAMP:20260424T020829Z
URL:https://business.newbernchamber.com/events/details/business-after-hours-river-station-8592
END:VEVENT

END:VCALENDAR
