BEGIN:VCALENDAR
VERSION:2.0
PRODID:-//ChamberMaster//Event Calendar 2.0//EN
METHOD:PUBLISH
X-PUBLISHED-TTL:P3D
REFRESH-INTERVAL:P3D
CALSCALE:GREGORIAN
BEGIN:VEVENT
DTSTART:20220224T223000Z
DTEND:20220225T000000Z
X-MICROSOFT-CDO-ALLDAYEVENT:FALSE
SUMMARY:Business After Hours - Floors Unlimited
DESCRIPTION:Join us for the first Business After Hours of the Year! Come out and network with fellow Chamber Members at Floors Unlimited\, our January Host.   \n\nWe would love to see you there!
X-ALT-DESC;FMTTYPE=text/html:<span style="color:#003366\;"><span style="font-size:18px\;">Join us for the first&nbsp\;<em>Business After Hours</em> of the Year!&nbsp\;Come out and network with fellow Chamber Members at Floors Unlimited\, our January Host.&nbsp\; &nbsp\;<br />\nWe would love to see you there!&nbsp\;</span></span><br style="color: rgb(0\, 100\, 0)\; font-family: Arial\, Helvetica\, sans-serif\; font-size: 18px\;" />\n&nbsp\;
LOCATION:4009 Dr. MLK Jr. Blvd New Bern\, NC 28560
UID:e.2120.8297
SEQUENCE:3
DTSTAMP:20260424T022332Z
URL:https://business.newbernchamber.com/events/details/business-after-hours-floors-unlimited-8297
END:VEVENT

END:VCALENDAR
