BEGIN:VCALENDAR
VERSION:2.0
PRODID:-//ChamberMaster//Event Calendar 2.0//EN
METHOD:PUBLISH
X-PUBLISHED-TTL:P3D
REFRESH-INTERVAL:P3D
CALSCALE:GREGORIAN
BEGIN:VEVENT
DTSTART:20230119T230000Z
DTEND:20230120T013000Z
X-MICROSOFT-CDO-ALLDAYEVENT:FALSE
SUMMARY:2023 Annual Celebration....A Night of Champions!
DESCRIPTION:2023 Annual Celebration...\n\nA Night of Champions \n\nPresented by: \n\nCarolinaEast Health System\n\nThe evening begins at 6:00 pm.\, with Check In & Social. \n\n\n\n6:30 to 7:15 p.m.   \n\nGuest Speaker:  Mr. Torrey Nowell\, New Bern High School Football Coach\n\n\n\nAwards presentation along with the traditional passing of the gavel from our 2022 Chair of the Board\, Mr.Jeff Medlin\, First Citizens Bank & Trust Co. to our 2023 Chair of the Board\, Mr. Kyle Dickerson\, Sumrell Sugg\, Attorneys at Law\n\n\n\n\n\n \n\nPresenting Sponsor:\n\nCarolina East Health System \n\n\n\n\n\nCorporate Table Sponsors: \n\nDuke Energy\n\nFirst Citizens Bank\n\nInternational Paper Company\n\nNew Bern Military Alliance\n\nSumrell Sugg\, Attorneys at Law\n\nThe E.A. Wood Law Firm\n\nTRUIST
X-ALT-DESC;FMTTYPE=text/html:<h2 style="font-style:italic\;"><span style="color:#FF0000\;"><span style="font-size:26px\;"><b>2023 Annual Celebration...<br />\nA Night of Champions&nbsp\;</b></span></span><br />\n<span style="color:#000000\;"><span style="font-size:26px\;"><b>Presented by:&nbsp\;<br />\nCarolinaEast Health System</b></span></span></h2>\n\n<h2 style="font-style:italic\;"><span style="font-size:26px\;">The evening begins at 6:00 pm.\, with Check In &amp\; Social.&nbsp\;<br />\n<br />\n6:30 to 7:15 p.m.&nbsp\; &nbsp\;<br />\nGuest Speaker:&nbsp\; Mr. Torrey Nowell\, New Bern High School Football Coach<br />\n<br />\nAwards presentation along with the traditional&nbsp\;passing of the gavel from our 2022 Chair of the Board\, Mr.Jeff Medlin\, First Citizens Bank &amp\; Trust Co.&nbsp\;to&nbsp\;our 2023 Chair of the Board\, Mr. Kyle Dickerson\, Sumrell Sugg\, Attorneys at Law</span><br />\n<br />\n<br />\n<span style="font-size:14px\;"><span style="color:#800000\;">&nbsp\;</span></span><br />\n<span style="font-size:36px\;"><span style="color:#FF0000\;"><strong style="font-size: 26px\;"><u>Presenting Sponsor:</u></strong></span></span></h2>\n\n<h2 style="font-style:italic\;"><span style="font-size:36px\;"><strong><span style="color:#000000\;">Carolina East Health System&nbsp\;</span></strong></span><br />\n<br />\n<br />\n<strong style="font-size: 28px\;"><a href="https://chambermaster.blob.core.windows.net/userfiles/UserFiles/chambers/2120/Image/2017TheFlameHiResLogo.jpg"><span style="color:#FF0000\;"><em><u><span style="font-size:28px\;">Corporate Table Sponsors:&nbsp\;</span></u></em></span></a></strong><br />\n<span style="font-size:26px\;"><strong>Duke Energy</strong><br />\n<strong><em>First Citizens Bank<br />\nInternational Paper Company<br />\nNew Bern Military Alliance<br />\nSumrell Sugg\, Attorneys at Law<br />\nThe E.A. Wood Law Firm<br />\nTRUIST</em></strong></span><br />\n&nbsp\;</h2>\n&nbsp\;\n\n<h2 style="font-weight: normal\; line-height: 1.2\;">&nbsp\;</h2>\n\n<div>&nbsp\;</div>\n\n<h2 style="font-style:italic\;">&nbsp\;</h2>\n
LOCATION:DoubleTree By Hilton Hotel New Bern Riverfront 100 Middle Street New Bern\, NC 28560
UID:e.2120.9477
SEQUENCE:3
DTSTAMP:20260424T113003Z
URL:https://business.newbernchamber.com/events/details/2023-annual-celebration-a-night-of-champions-9477
END:VEVENT

END:VCALENDAR
